BEGIN:VCALENDAR
VERSION:2.0
PRODID:-//mtcarmelschoolbronx.org//eCatholic//EN
X-WR-TIMEZONE:LocalTZ
BEGIN:VTIMEZONE
TZID:LocalTZ
X-LIC-LOCATION:LocalTZ
BEGIN:DAYLIGHT
TZOFFSETFROM:-0500
TZOFFSETTO:-0400
TZNAME:LocalTZ
DTSTART:19700308T020000
RRULE:FREQ=YEARLY;BYMONTH=3;BYDAY=2SU
END:DAYLIGHT
BEGIN:STANDARD
TZOFFSETFROM:-0400
TZOFFSETTO:-0500
TZNAME:LocalTZ
DTSTART:19701101T020000
RRULE:FREQ=YEARLY;BYMONTH=11;BYDAY=1SU
END:STANDARD
END:VTIMEZONE
BEGIN:VEVENT
UID:2822990@mtcarmelschoolbronx.org
DTSTAMP:20260424T144101Z
DTSTART:20260425T180000
DTEND:20260425T190000
SUMMARY:CARD PARTY - 6-11PM
END:VEVENT
BEGIN:VEVENT
UID:2822992@mtcarmelschoolbronx.org
DTSTAMP:20260424T144101Z
DTSTART;VALUE=DATE:20260429
DTEND;VALUE=DATE:20260430
SUMMARY:Math State Exam - Day 1
END:VEVENT
BEGIN:VEVENT
UID:2822993@mtcarmelschoolbronx.org
DTSTAMP:20260424T144101Z
DTSTART;VALUE=DATE:20260430
DTEND;VALUE=DATE:20260501
SUMMARY:Math State Exam - Day 2
END:VEVENT
BEGIN:VEVENT
UID:2822994@mtcarmelschoolbronx.org
DTSTAMP:20260424T144101Z
DTSTART;VALUE=DATE:20260501
DTEND;VALUE=DATE:20260502
SUMMARY:1/2 Day K-8 Noon Dismissal
END:VEVENT
BEGIN:VEVENT
UID:2822996@mtcarmelschoolbronx.org
DTSTAMP:20260424T144101Z
DTSTART;VALUE=DATE:20260510
DTEND;VALUE=DATE:20260511
SUMMARY:Happy Mother's Day
END:VEVENT
BEGIN:VEVENT
UID:2822998@mtcarmelschoolbronx.org
DTSTAMP:20260424T144101Z
DTSTART;VALUE=DATE:20260511
DTEND;VALUE=DATE:20260512
SUMMARY:SNOW DAY #2 - TBD
END:VEVENT
BEGIN:VEVENT
UID:2822999@mtcarmelschoolbronx.org
DTSTAMP:20260424T144101Z
DTSTART;VALUE=DATE:20260513
DTEND;VALUE=DATE:20260514
SUMMARY:Spring MAP Begins
END:VEVENT
BEGIN:VEVENT
UID:2823000@mtcarmelschoolbronx.org
DTSTAMP:20260424T144101Z
DTSTART;VALUE=DATE:20260514
DTEND;VALUE=DATE:20260515
SUMMARY:Ascension Thursday -SCHOOL OPEN
END:VEVENT
BEGIN:VEVENT
UID:2823001@mtcarmelschoolbronx.org
DTSTAMP:20260424T144101Z
DTSTART:20260514T090000
DTEND:20260514T100000
SUMMARY:School Mass
END:VEVENT
BEGIN:VEVENT
UID:2823003@mtcarmelschoolbronx.org
DTSTAMP:20260424T144101Z
DTSTART:20260520T090000
DTEND:20260520T100000
SUMMARY:Kindergarten Class Mass
END:VEVENT
BEGIN:VEVENT
UID:2823005@mtcarmelschoolbronx.org
DTSTAMP:20260424T144101Z
DTSTART;VALUE=DATE:20260522
DTEND;VALUE=DATE:20260523
SUMMARY:SCHOOL CLOSED- ALL GRADES
END:VEVENT
BEGIN:VEVENT
UID:2823007@mtcarmelschoolbronx.org
DTSTAMP:20260424T144101Z
DTSTART;VALUE=DATE:20260525
DTEND;VALUE=DATE:20260526
SUMMARY:Memorial Day- SCHOOL CLOSED - ALL GRADES
END:VEVENT
BEGIN:VEVENT
UID:2823008@mtcarmelschoolbronx.org
DTSTAMP:20260424T144101Z
DTSTART;VALUE=DATE:20260526
DTEND;VALUE=DATE:20260527
SUMMARY:SNOW DAY #3 - TBD
END:VEVENT
BEGIN:VEVENT
UID:2823009@mtcarmelschoolbronx.org
DTSTAMP:20260424T144101Z
DTSTART;VALUE=DATE:20260529
DTEND;VALUE=DATE:20260530
SUMMARY:Spring MAP Ends
END:VEVENT
BEGIN:VEVENT
UID:2823010@mtcarmelschoolbronx.org
DTSTAMP:20260424T144101Z
DTSTART;VALUE=DATE:20260605
DTEND;VALUE=DATE:20260606
SUMMARY:1/2 Day K-8 Noon Dismissal
END:VEVENT
BEGIN:VEVENT
UID:2823012@mtcarmelschoolbronx.org
DTSTAMP:20260424T144101Z
DTSTART:20260611T100000
DTEND:20260611T110000
SUMMARY:Graduation Mass 10 am
END:VEVENT
BEGIN:VEVENT
UID:2823014@mtcarmelschoolbronx.org
DTSTAMP:20260424T144101Z
DTSTART;VALUE=DATE:20260612
DTEND;VALUE=DATE:20260613
SUMMARY:8TH Grade Graduation - 4PM
END:VEVENT
BEGIN:VEVENT
UID:2823015@mtcarmelschoolbronx.org
DTSTAMP:20260424T144101Z
DTSTART;VALUE=DATE:20260618
DTEND;VALUE=DATE:20260619
SUMMARY:Last Day of School- K-7 - 11 AM Dismissal
END:VEVENT
BEGIN:VEVENT
UID:2823016@mtcarmelschoolbronx.org
DTSTAMP:20260424T144101Z
DTSTART;VALUE=DATE:20260619
DTEND;VALUE=DATE:20260620
SUMMARY:Junteenth  -Mount Carmel Closed
END:VEVENT
BEGIN:VEVENT
UID:2823017@mtcarmelschoolbronx.org
DTSTAMP:20260424T144101Z
DTSTART;VALUE=DATE:20260621
DTEND;VALUE=DATE:20260622
SUMMARY:Happy Father's Day
END:VEVENT
BEGIN:VEVENT
UID:2823018@mtcarmelschoolbronx.org
DTSTAMP:20260424T144101Z
DTSTART;VALUE=DATE:20260622
DTEND;VALUE=DATE:20260623
SUMMARY:Last Day 3k & UPK
END:VEVENT
BEGIN:VEVENT
UID:2823019@mtcarmelschoolbronx.org
DTSTAMP:20260424T144101Z
DTSTART;VALUE=DATE:20260622
DTEND;VALUE=DATE:20260623
SUMMARY:Mount Carmel Offices - Summer Hours Begin 9-12 noon
END:VEVENT
BEGIN:VEVENT
UID:2823020@mtcarmelschoolbronx.org
DTSTAMP:20260424T144101Z
DTSTART;VALUE=DATE:20260629
DTEND;VALUE=DATE:20260630
SUMMARY:Catapult Summer Program Begins
END:VEVENT
BEGIN:VEVENT
UID:2823021@mtcarmelschoolbronx.org
DTSTAMP:20260424T144101Z
DTSTART;VALUE=DATE:20260703
DTEND;VALUE=DATE:20260704
SUMMARY:SCHOOL OFFICES CLOSED
END:VEVENT
BEGIN:VEVENT
UID:2823022@mtcarmelschoolbronx.org
DTSTAMP:20260424T144101Z
DTSTART;VALUE=DATE:20260704
DTEND;VALUE=DATE:20260705
SUMMARY:Happy Independence Day - Offices Closed
END:VEVENT
BEGIN:VEVENT
UID:2823023@mtcarmelschoolbronx.org
DTSTAMP:20260424T144101Z
DTSTART;VALUE=DATE:20260706
DTEND;VALUE=DATE:20260707
SUMMARY:SCHOOL OFFICES CLOSED
END:VEVENT
END:VCALENDAR
